BEGIN:VCALENDAR
VERSION:2.0
PRODID:-//TANGO MILAGRO - ECPv4.9.14//NONSGML v1.0//EN
CALSCALE:GREGORIAN
METHOD:PUBLISH
X-WR-CALNAME:TANGO MILAGRO
X-ORIGINAL-URL:https://www.tangomilagro.com
X-WR-CALDESC:Évènements pour TANGO MILAGRO
BEGIN:VTIMEZONE
TZID:Europe/Paris
BEGIN:DAYLIGHT
TZOFFSETFROM:+0100
TZOFFSETTO:+0200
TZNAME:CEST
DTSTART:20200329T010000
END:DAYLIGHT
BEGIN:STANDARD
TZOFFSETFROM:+0200
TZOFFSETTO:+0100
TZNAME:CET
DTSTART:20201025T010000
END:STANDARD
END:VTIMEZONE
BEGIN:VEVENT
DTSTART;TZID=Europe/Paris:20200211T180000
DTEND;TZID=Europe/Paris:20200211T200000
DTSTAMP:20260419T181310
CREATED:20181001T121158Z
LAST-MODIFIED:20200118T135109Z
UID:9830-1581444000-1581451200@www.tangomilagro.com
SUMMARY:Stage d'Initiation au Tango Argentin au Work Inn
DESCRIPTION:[vc_row enable_arrows_animation=”no”][vc_column][vc_column_text]STAGE DE TANGO ARGENTIN\nNiveaux Initiation / Débutants \nVenez profiter de cette occasion pour préparer la Saint-Valentin! \nLe 11 février 2020 de 18h à 20h \nSuivi d’une pratique de 20h à 23h30 \nAdresse : \nWork Inn\n163 Quai du Dr Dervaux – 92600 Asnieres sur Seine \nPour vous inscrire au stage\, merci de nous contacter ou rdv sur place le jour J. \nAutrement\, vous avez aussi la possibilité de nous rejoindre pour la pratique. \nVenez seul(e) ou en couple 🙂 \nTarifs : \nPour le stage + la pratique : 30 eur / personne\nEn\ntrée pour la pratique : 5 eur / personne\n  \n[/vc_column_text][/vc_column][/vc_row] \n
URL:https://www.tangomilagro.com/evenement/stage-dinitiation-au-tango-argentin-au-workinn/
LOCATION:Work Inn 163 Quai du Dr Dervaux – 92600 Asnieres sur Seine\, Work Inn 163 Quai du Dr Dervaux - 92600 Asnieres sur Seine\, Asnieres sur Seine\, 92600\, France
CATEGORIES:STAGES
ATTACH;FMTTYPE=image/jpeg:https://www.tangomilagro.com/wp-content/uploads/2018/10/Affiche-Work-Inn-Stage-Tango-Saint-Valentin-2020.jpg
END:VEVENT
END:VCALENDAR