BEGIN:VCALENDAR
VERSION:2.0
PRODID:-//TANGO MILAGRO - ECPv4.9.14//NONSGML v1.0//EN
CALSCALE:GREGORIAN
METHOD:PUBLISH
X-WR-CALNAME:TANGO MILAGRO
X-ORIGINAL-URL:https://www.tangomilagro.com
X-WR-CALDESC:Évènements pour TANGO MILAGRO
BEGIN:VTIMEZONE
TZID:Europe/Paris
BEGIN:DAYLIGHT
TZOFFSETFROM:+0100
TZOFFSETTO:+0200
TZNAME:CEST
DTSTART:20190331T010000
END:DAYLIGHT
BEGIN:STANDARD
TZOFFSETFROM:+0200
TZOFFSETTO:+0100
TZNAME:CET
DTSTART:20191027T010000
END:STANDARD
END:VTIMEZONE
BEGIN:VEVENT
DTSTART;TZID=Europe/Paris:20190721T160000
DTEND;TZID=Europe/Paris:20190721T180000
DTSTAMP:20260419T144822
CREATED:20181001T121158Z
LAST-MODIFIED:20190709T185244Z
UID:9787-1563724800-1563732000@www.tangomilagro.com
SUMMARY:Stage de Tango Argentin Hommes / Femmes (Inscription seul(e) ou en couple)
DESCRIPTION:Stage de Tango Argentin Hommes / Femmes (Inscription seul(e) ou en couple)\n\n(Par Finita Rabezanahary de Tango Milagro) \n\n\nLe Dimanche 21 juillet 2019\nDe 16h à 18h\nLieu : Centre de Danse Alésia – 119 Avenue du Génaral Leclerc – 75014 Paris (Métro Porte d’Orléans) \n\n“En partant des fondamentaux dans le couple de danseurs (la posture\, la connexion\, le guidage pour l’homme\, l’écoute pour la femme\, l’encrage\, les dissociations\, la projection\, etc…)\, l’objectif est d’approfondir les bases et de raffiner son style afin d’adopter une marche élégante dans les déplacements (marche avant / arrière\, passage à la gauche / droite).\nLaissez-vous tenter par l’Expression de la Grâce!” \n\nPrix : 30 Eur / personne\n\nhttps://www.centre-danse-alesia.com/ \n \n
URL:https://www.tangomilagro.com/evenement/stage-de-tango-argentin-hommes-femmes-inscription-seule-ou-en-couple/
LOCATION:Centre de Danse Alésia\, 119 Avenue du Génaral Leclerc\, PARIS\, 75014\, France
CATEGORIES:STAGES
ATTACH;FMTTYPE=image/jpeg:https://www.tangomilagro.com/wp-content/uploads/2018/10/Stage-Couple-Juillet-2019.jpeg
END:VEVENT
END:VCALENDAR